BEGIN:VCALENDAR
VERSION:2.0
CALSCALE:GREGORIAN
PRODID:adamgibbons/ics
METHOD:PUBLISH
X-PUBLISHED-TTL:PT1H
BEGIN:VEVENT
UID:8919@eif.convoca.la
SUMMARY:Kafeta Benefit "Brigadas Callejeras"
DTSTAMP:20260421T152536Z
DTSTART:20260423T163000Z
URL:https://eif.convoca.la/event/kafeta-benefit-brigadas-callejeras
GEO:41.4101632;2.1834438
LOCATION:CSOA La Revoltosa - 82\, Carrer de Rogent\, el Camp de l'Arpa del 
	Clot\, Barcelona\, 08026
STATUS:CONFIRMED
CATEGORIES:Clot,México,Salud comunitaria,el Clot,internacionalisme,kafeta,t
	rabajo sexual
END:VEVENT
BEGIN:VEVENT
UID:8911@eif.convoca.la
SUMMARY:Presentación del libro 'Putas rebeldes'
DTSTAMP:20260421T152536Z
DTSTART:20260429T170000Z
URL:https://eif.convoca.la/event/presentacion-del-libro-putas-rebeldes
LOCATION:Librería Mary Read - C. del Marqués de Toca\, 3\, Centro\, 28012 M
	adrid
STATUS:CONFIRMED
CATEGORIES:Madrid,PResentación de libro,historia,trabajo sexual
END:VEVENT
END:VCALENDAR
